BEGIN:VCALENDAR
VERSION:2.0
PRODID:-//United Congregational Church of Westerly - ECPv6.15.17.1//NONSGML v1.0//EN
CALSCALE:GREGORIAN
METHOD:PUBLISH
X-ORIGINAL-URL:https://www.uccwesterly.org
X-WR-CALDESC:Events for United Congregational Church of Westerly
REFRESH-INTERVAL;VALUE=DURATION:PT1H
X-Robots-Tag:noindex
X-PUBLISHED-TTL:PT1H
BEGIN:VTIMEZONE
TZID:America/New_York
BEGIN:DAYLIGHT
TZOFFSETFROM:-0500
TZOFFSETTO:-0400
TZNAME:EDT
DTSTART:20250309T070000
END:DAYLIGHT
BEGIN:STANDARD
TZOFFSETFROM:-0400
TZOFFSETTO:-0500
TZNAME:EST
DTSTART:20251102T060000
END:STANDARD
BEGIN:DAYLIGHT
TZOFFSETFROM:-0500
TZOFFSETTO:-0400
TZNAME:EDT
DTSTART:20260308T070000
END:DAYLIGHT
BEGIN:STANDARD
TZOFFSETFROM:-0400
TZOFFSETTO:-0500
TZNAME:EST
DTSTART:20261101T060000
END:STANDARD
BEGIN:DAYLIGHT
TZOFFSETFROM:-0500
TZOFFSETTO:-0400
TZNAME:EDT
DTSTART:20270314T070000
END:DAYLIGHT
BEGIN:STANDARD
TZOFFSETFROM:-0400
TZOFFSETTO:-0500
TZNAME:EST
DTSTART:20271107T060000
END:STANDARD
END:VTIMEZONE
BEGIN:VEVENT
DTSTART;TZID=America/New_York:20260313T173000
DTEND;TZID=America/New_York:20260313T193000
DTSTAMP:20260424T122254
CREATED:20260205T151416Z
LAST-MODIFIED:20260312T143833Z
UID:2664-1773423000-1773430200@www.uccwesterly.org
SUMMARY:Community Potluck Soup Supper
DESCRIPTION:
URL:https://www.uccwesterly.org/event/community-potluck-soup-supper/
LOCATION:UCC of Westerly\, 9 Castle Hill Rd\, Pawcatuck\, CT\, 06379
CATEGORIES:Events
ATTACH;FMTTYPE=image/png:https://www.uccwesterly.org/wp-content/uploads/2026/02/2026-UCC-Westerly-Community-Soup-Supper-Potluck.png
END:VEVENT
BEGIN:VEVENT
DTSTART;TZID=America/New_York:20260319T130000
DTEND;TZID=America/New_York:20260319T150000
DTSTAMP:20260424T122254
CREATED:20260205T152803Z
LAST-MODIFIED:20260312T152858Z
UID:2678-1773925200-1773932400@www.uccwesterly.org
SUMMARY:Rev. Ruth's Community Office Hours
DESCRIPTION:Rev. Ruth will be at Martin House Books from 1-3pm as a friendly face\, a dependable confident and a resource for your questions about life generally\, and spirituality more specifically. Come on by and say hi! \nMartin House Books is located at: 10 Canal Street\, Westerly RI 02891
URL:https://www.uccwesterly.org/event/rev-ruths-community-office-hours-2/
CATEGORIES:Events
ATTACH;FMTTYPE=image/png:https://www.uccwesterly.org/wp-content/uploads/2026/02/Community-Office-Hours.png
END:VEVENT
BEGIN:VEVENT
DTSTART;TZID=America/New_York:20260329T094500
DTEND;TZID=America/New_York:20260329T110000
DTSTAMP:20260424T122254
CREATED:20260312T142520Z
LAST-MODIFIED:20260312T153451Z
UID:2732-1774777500-1774782000@www.uccwesterly.org
SUMMARY:Palm Sunday Service
DESCRIPTION:
URL:https://www.uccwesterly.org/event/palm-sunday-service/
LOCATION:UCC of Westerly\, 9 Castle Hill Rd\, Pawcatuck\, CT\, 06379
CATEGORIES:Events
ATTACH;FMTTYPE=image/png:https://www.uccwesterly.org/wp-content/uploads/2026/03/Palm-Sunday.png
END:VEVENT
END:VCALENDAR