BEGIN:VCALENDAR
VERSION:2.0
PRODID:-//United Congregational Church of Westerly - ECPv6.15.17.1//NONSGML v1.0//EN
CALSCALE:GREGORIAN
METHOD:PUBLISH
X-WR-CALNAME:United Congregational Church of Westerly
X-ORIGINAL-URL:https://www.uccwesterly.org
X-WR-CALDESC:Events for United Congregational Church of Westerly
REFRESH-INTERVAL;VALUE=DURATION:PT1H
X-Robots-Tag:noindex
X-PUBLISHED-TTL:PT1H
BEGIN:VTIMEZONE
TZID:UTC
BEGIN:STANDARD
TZOFFSETFROM:+0000
TZOFFSETTO:+0000
TZNAME:UTC
DTSTART:20210101T000000
END:STANDARD
END:VTIMEZONE
BEGIN:VEVENT
DTSTART;TZID=UTC:20220824T170000
DTEND;TZID=UTC:20220824T210000
DTSTAMP:20260421T121914
CREATED:20220725T142641Z
LAST-MODIFIED:20220725T144313Z
UID:1903-1661360400-1661374800@www.uccwesterly.org
SUMMARY:UCC Westerly Nights
DESCRIPTION:Usually the 3rd Thursday of every month @ 5pm!  A simple outing whose sole purpose is fellowship and fun.  \nRecent outings included dinner out at Stonington Pizza\, Vetranos\, and Grey Sail Brewing.  We also went to local baseball games and enjoyed the fireworks!
URL:https://www.uccwesterly.org/event/ucc-westerly-nights/
CATEGORIES:Events
ATTACH;FMTTYPE=image/png:https://www.uccwesterly.org/wp-content/uploads/2022/07/Screen-Shot-2022-07-25-at-10.24.18-AM.png
END:VEVENT
END:VCALENDAR