BEGIN:VCALENDAR
VERSION:2.0
PRODID:-//United Congregational Church of Westerly - ECPv6.15.17.1//NONSGML v1.0//EN
CALSCALE:GREGORIAN
METHOD:PUBLISH
X-WR-CALNAME:United Congregational Church of Westerly
X-ORIGINAL-URL:https://www.uccwesterly.org
X-WR-CALDESC:Events for United Congregational Church of Westerly
REFRESH-INTERVAL;VALUE=DURATION:PT1H
X-Robots-Tag:noindex
X-PUBLISHED-TTL:PT1H
BEGIN:VTIMEZONE
TZID:America/New_York
BEGIN:DAYLIGHT
TZOFFSETFROM:-0500
TZOFFSETTO:-0400
TZNAME:EDT
DTSTART:20250309T070000
END:DAYLIGHT
BEGIN:STANDARD
TZOFFSETFROM:-0400
TZOFFSETTO:-0500
TZNAME:EST
DTSTART:20251102T060000
END:STANDARD
BEGIN:DAYLIGHT
TZOFFSETFROM:-0500
TZOFFSETTO:-0400
TZNAME:EDT
DTSTART:20260308T070000
END:DAYLIGHT
BEGIN:STANDARD
TZOFFSETFROM:-0400
TZOFFSETTO:-0500
TZNAME:EST
DTSTART:20261101T060000
END:STANDARD
BEGIN:DAYLIGHT
TZOFFSETFROM:-0500
TZOFFSETTO:-0400
TZNAME:EDT
DTSTART:20270314T070000
END:DAYLIGHT
BEGIN:STANDARD
TZOFFSETFROM:-0400
TZOFFSETTO:-0500
TZNAME:EST
DTSTART:20271107T060000
END:STANDARD
END:VTIMEZONE
BEGIN:VEVENT
DTSTART;TZID=America/New_York:20260212T130000
DTEND;TZID=America/New_York:20260212T150000
DTSTAMP:20260424T144436
CREATED:20260205T152646Z
LAST-MODIFIED:20260205T152646Z
UID:2676-1770901200-1770908400@www.uccwesterly.org
SUMMARY:Rev. Ruth's Community Office Hours
DESCRIPTION:Rev. Ruth will be at Martin House Books from 1-3pm as a friendly face\, a dependable confident and a resource for your questions about life generally\, and spirituality more specifically. Come on by and say hi! \nMartin House Books is located at: 10 Canal Street\, Westerly RI 02891
URL:https://www.uccwesterly.org/event/rev-ruths-community-office-hours/
END:VEVENT
END:VCALENDAR